BEGIN:VCALENDAR
VERSION:2.0
PRODID:-//wp-events-plugin.com//7.2.3.1//EN
BEGIN:VEVENT
UID:77@fsscv.es
DTSTART:20260208T090000Z
DTEND:20260208T193000Z
DTSTAMP:20260208T180737Z
URL:https://fsscv.es/competiciones/ii-jornada-de-liga-espanola-de-clubes-i
 nfantil-y-cadete/
SUMMARY:III JORNADA DE LIGA ESPAÑOLA DE CLUBES - INFANTIL Y CADETE
DESCRIPTION:
ATTACH;FMTTYPE=image/jpeg:https://fsscv.es/wp-content/uploads/2026/01/Cart
 el-8FEB26.jpeg
CATEGORIES:Autonómico,Competición Valencia
LOCATION:Piscina Coberta Bétera\, Carrer Serra\, 1\, Bétera\, 46117\, Esp
 aña
X-APPLE-STRUCTURED-LOCATION;VALUE=URI;X-ADDRESS=Carrer Serra\, 1\, Bétera\
 , 46117\, España;X-APPLE-RADIUS=100;X-TITLE=Piscina Coberta Bétera:geo:0
 ,0
END:VEVENT
END:VCALENDAR